BEGIN:VCALENDAR
VERSION:2.0
PRODID:-//81.169.145.148//NONSGML kigkonsult.se iCalcreator 2.20//
CALSCALE:GREGORIAN
METHOD:PUBLISH
X-WR-TIMEZONE:Europe/Berlin
BEGIN:VEVENT
UID:event138@Surf & Segelclub Jockgrim
DTSTAMP:20260420T141915Z
CATEGORIES:Surfclub
DESCRIPTION:Absurfen\nKategorie: Surfclub\nICS-Link: http://segelclub-jockg
 rim.de/index.php?option=com_jem&view=event&id=138:absurfen\n
DTSTART;TZID=Europe/Berlin:20260913T120000
DTEND;TZID=Europe/Berlin:20260913T120000
LOCATION:Vereinsgelände\,Johanneswiesen\,76751 Jockgrim
SUMMARY:Absurfen
URL:http://segelclub-jockgrim.de/index.php?option=com_jem&view=event&id=138
 :absurfen
END:VEVENT
END:VCALENDAR