BEGIN:VCALENDAR
VERSION:2.0
PRODID:-//81.169.145.148//NONSGML kigkonsult.se iCalcreator 2.20//
CALSCALE:GREGORIAN
METHOD:PUBLISH
X-WR-TIMEZONE:Europe/Berlin
BEGIN:VEVENT
UID:event134@Surf & Segelclub Jockgrim
DTSTAMP:20260419T141151Z
CATEGORIES:Surfclub
DESCRIPTION:Arbeitseinsatz\nKategorie: Surfclub\nICS-Link: http://segelclub
 -jockgrim.de/index.php?option=com_jem&view=event&id=134:arbeitseinsatz\n
DTSTART;TZID=Europe/Berlin:20260530T100000
DTEND;TZID=Europe/Berlin:20260530T130000
LOCATION:Vereinsgelände\,Johanneswiesen\,76751 Jockgrim\,Germany
SUMMARY:Arbeitseinsatz
URL:http://segelclub-jockgrim.de/index.php?option=com_jem&view=event&id=134
 :arbeitseinsatz
END:VEVENT
BEGIN:VEVENT
UID:event139@Surf & Segelclub Jockgrim
DTSTAMP:20260419T141151Z
CATEGORIES:Surfclub
DESCRIPTION:Arbeitseinsatz\nKategorie: Surfclub\nICS-Link: http://segelclub
 -jockgrim.de/index.php?option=com_jem&view=event&id=139:arbeitseinsatz\n
DTSTART;TZID=Europe/Berlin:20261024T100000
DTEND;TZID=Europe/Berlin:20261024T130000
LOCATION:Vereinsgelände\,Johanneswiesen\,76751 Jockgrim\,Germany
SUMMARY:Arbeitseinsatz
URL:http://segelclub-jockgrim.de/index.php?option=com_jem&view=event&id=139
 :arbeitseinsatz
END:VEVENT
BEGIN:VEVENT
UID:event137@Surf & Segelclub Jockgrim
DTSTAMP:20260419T141151Z
CATEGORIES:Surfclub
DESCRIPTION:Kurs Windsurfen für Fortgeschrittene für Mitglieder\nKategorie:
  Surfclub\nICS-Link: http://segelclub-jockgrim.de/index.php?option=com_jem
 &view=event&id=137:kurs-windsurfen-fuer-fortgeschrittene-fuer-mitglieder\n
DTSTART;TZID=Europe/Berlin:20260906T110000
DTEND;TZID=Europe/Berlin:20260906T140000
LOCATION:Vereinsgelände\,Johanneswiesen\,76751 Jockgrim\,Germany
SUMMARY:Kurs Windsurfen für Fortgeschrittene für Mitglieder
URL:http://segelclub-jockgrim.de/index.php?option=com_jem&view=event&id=137
 :kurs-windsurfen-fuer-fortgeschrittene-fuer-mitglieder
END:VEVENT
BEGIN:VEVENT
UID:event136@Surf & Segelclub Jockgrim
DTSTAMP:20260419T141151Z
CATEGORIES:Surfclub
DESCRIPTION:Kurs Windsurfen für Vereinsmitglieder\nKategorie: Surfclub\nICS
 -Link: http://segelclub-jockgrim.de/index.php?option=com_jem&view=event&id
 =136:kurs-windsurfen\n
DTSTART;TZID=Europe/Berlin:20260816T110000
DTEND;TZID=Europe/Berlin:20260816T140000
LOCATION:Vereinsgelände\,Johanneswiesen\,76751 Jockgrim\,Germany
SUMMARY:Kurs Windsurfen für Vereinsmitglieder
URL:http://segelclub-jockgrim.de/index.php?option=com_jem&view=event&id=136
 :kurs-windsurfen
END:VEVENT
BEGIN:VEVENT
UID:event138@Surf & Segelclub Jockgrim
DTSTAMP:20260419T141151Z
CATEGORIES:Surfclub
DESCRIPTION:Absurfen\nKategorie: Surfclub\nICS-Link: http://segelclub-jockg
 rim.de/index.php?option=com_jem&view=event&id=138:absurfen\n
DTSTART;TZID=Europe/Berlin:20260913T120000
DTEND;TZID=Europe/Berlin:20260913T120000
LOCATION:Vereinsgelände\,Johanneswiesen\,76751 Jockgrim\,Germany
SUMMARY:Absurfen
URL:http://segelclub-jockgrim.de/index.php?option=com_jem&view=event&id=138
 :absurfen
END:VEVENT
BEGIN:VEVENT
UID:event132@Surf & Segelclub Jockgrim
DTSTAMP:20260419T141151Z
CATEGORIES:Surfclub
DESCRIPTION:Ansurfen / Saisoneröffnung\nKategorie: Surfclub\nICS-Link: http
 ://segelclub-jockgrim.de/index.php?option=com_jem&view=event&id=132:anrufe
 n-saisoneroeffnung\n
DTSTART;TZID=Europe/Berlin:20260510T120000
DTEND;TZID=Europe/Berlin:20260510T120000
LOCATION:Vereinsgelände\,Johanneswiesen\,76751 Jockgrim\,Germany
SUMMARY:Ansurfen / Saisoneröffnung
URL:http://segelclub-jockgrim.de/index.php?option=com_jem&view=event&id=132
 :anrufen-saisoneroeffnung
END:VEVENT
BEGIN:VEVENT
UID:event135@Surf & Segelclub Jockgrim
DTSTAMP:20260419T141151Z
CATEGORIES:Surfclub
DESCRIPTION:Sommerfest\nKategorie: Surfclub\nICS-Link: http://segelclub-joc
 kgrim.de/index.php?option=com_jem&view=event&id=135:sommerfest\n
DTSTART;TZID=Europe/Berlin:20260705T120000
DTEND;TZID=Europe/Berlin:20260705T120000
LOCATION:Vereinsgelände\,Johanneswiesen\,76751 Jockgrim\,Germany
SUMMARY:Sommerfest
URL:http://segelclub-jockgrim.de/index.php?option=com_jem&view=event&id=135
 :sommerfest
END:VEVENT
END:VCALENDAR